BEGIN:VCALENDAR
VERSION:2.0
PRODID:-//Kildare Public Participation Network - ECPv6.11.0.1//NONSGML v1.0//EN
CALSCALE:GREGORIAN
METHOD:PUBLISH
X-WR-CALNAME:Kildare Public Participation Network
X-ORIGINAL-URL:https://www.kildareppn.ie
X-WR-CALDESC:Events for Kildare Public Participation Network
REFRESH-INTERVAL;VALUE=DURATION:PT1H
X-Robots-Tag:noindex
X-PUBLISHED-TTL:PT1H
BEGIN:VTIMEZONE
TZID:Europe/Dublin
BEGIN:DAYLIGHT
TZOFFSETFROM:+0000
TZOFFSETTO:+0100
TZNAME:IST
DTSTART:20230326T010000
END:DAYLIGHT
BEGIN:STANDARD
TZOFFSETFROM:+0100
TZOFFSETTO:+0000
TZNAME:GMT
DTSTART:20231029T010000
END:STANDARD
END:VTIMEZONE
BEGIN:VEVENT
DTSTART;TZID=Europe/Dublin:20230926T130000
DTEND;TZID=Europe/Dublin:20230926T143000
DTSTAMP:20260421T112125
CREATED:20230817T092334Z
LAST-MODIFIED:20230817T092652Z
UID:13047-1695733200-1695738600@www.kildareppn.ie
SUMMARY:Blind and Visually Impaired Tennis
DESCRIPTION:If you have a Vision Impairment or know someone with a vision impairment this is the chance to try an incredible game in a fun\, social environment. \n  \nHow to register: Phone Pete Lowther on 0879664660
URL:https://www.kildareppn.ie/event/blind-and-visually-impaired-tennis/
LOCATION:Naas Lawn Tennis Club\, Oldtown Demesne\, Naas\, Kildare\, W91 HV02\, Ireland
CATEGORIES:Social Inclusion Week
ATTACH;FMTTYPE=image/png:https://www.kildareppn.ie/wp-content/uploads/2023/08/SIW-Website.png
END:VEVENT
END:VCALENDAR